BEGIN:VCALENDAR
VERSION:2.0
CALSCALE:GREGORIAN
PRODID:-//Diputació de Barcelona//DibaCMS//EN
BEGIN:VEVENT
UID:4331
DTSTAMP:20260425T153940
DTSTART:20260430T113000
DTEND:20260430T130000
SUMMARY:CDSTG Dia de les Esquadres
LOCATION:l'Hotel Melià de Sitges 
METHOD:PUBLISH
X-WR-CALNAME:ajuntament@olivella.cat
X-WR-TIMEZONE:Europe/Madrid
DESCRIPTION:
URI:https://www.olivella.cat/ajuntament/alcaldia-oberta/agenda-de-lalcaldessa/cdstg-dia-de-les-esquadres.html
CLASS:PUBLIC
END:VEVENT
END:VCALENDAR
