BEGIN:VCALENDAR
VERSION:2.0
CALSCALE:GREGORIAN
PRODID:-//Diputació de Barcelona//DibaCMS//EN
BEGIN:VEVENT
UID:4330
DTSTAMP:20260424T221130
DTSTART:20260430T110000
DTEND:20260430T113000
SUMMARY:MESA GENERAL NEGOCIACIÓ FITXES RLT
LOCATION:Plaça Major, s/núm  08818 Olivella
METHOD:PUBLISH
X-WR-CALNAME:ajuntament@olivella.cat
X-WR-TIMEZONE:Europe/Madrid
DESCRIPTION:
URI:https://www.olivella.cat/ajuntament/alcaldia-oberta/agenda-de-lalcaldessa/mesa-general-negociacio-fitxes-rlt.html
CLASS:PUBLIC
END:VEVENT
END:VCALENDAR
