BEGIN:VCALENDAR
VERSION:2.0
CALSCALE:GREGORIAN
PRODID:-//Diputació de Barcelona//DibaCMS//EN
BEGIN:VEVENT
UID:4329
DTSTAMP:20260425T154613
DTSTART:20260429T160000
DTEND:20260429T180000
SUMMARY:Consell rector del PNJCat
LOCATION:
METHOD:PUBLISH
X-WR-CALNAME:ajuntament@olivella.cat
X-WR-TIMEZONE:Europe/Madrid
DESCRIPTION:
URI:https://www.olivella.cat/ajuntament/alcaldia-oberta/agenda-de-lalcaldessa/consell-rector-del-pnjcat.html
CLASS:PUBLIC
END:VEVENT
END:VCALENDAR
