BEGIN:VCALENDAR
VERSION:2.0
CALSCALE:GREGORIAN
PRODID:-//Diputació de Barcelona//DibaCMS//EN
BEGIN:VEVENT
UID:4328
DTSTAMP:20260425T155645
DTSTART:20260429T120000
DTEND:20260429T130000
SUMMARY:Reunió del Servei de Medi Natural i Litoral del Garraf 
LOCATION:Masia en Cabanyes 
METHOD:PUBLISH
X-WR-CALNAME:ajuntament@olivella.cat
X-WR-TIMEZONE:Europe/Madrid
DESCRIPTION:
URI:https://www.olivella.cat/ajuntament/alcaldia-oberta/agenda-de-lalcaldessa/reunio-del-servei-de-medi-natural-i-litoral-del-garraf-.html
CLASS:PUBLIC
END:VEVENT
END:VCALENDAR
