BEGIN:VCALENDAR
VERSION:2.0
CALSCALE:GREGORIAN
PRODID:-//Diputació de Barcelona//DibaCMS//EN
BEGIN:VEVENT
UID:4327
DTSTAMP:20260425T172455
DTSTART:20260429T100000
DTEND:20260429T130000
SUMMARY:Plenari Consell Consultiu de la Gent Gran del Garraf
LOCATION:Sala de les Voltes de la Masia d'en Cabanyes 
METHOD:PUBLISH
X-WR-CALNAME:ajuntament@olivella.cat
X-WR-TIMEZONE:Europe/Madrid
DESCRIPTION:
URI:https://www.olivella.cat/ajuntament/alcaldia-oberta/agenda-de-lalcaldessa/plenari-consell-consultiu-de-la-gent-gran-del-garraf.html
CLASS:PUBLIC
END:VEVENT
END:VCALENDAR
