BEGIN:VCALENDAR
VERSION:2.0
CALSCALE:GREGORIAN
PRODID:-//Diputació de Barcelona//DibaCMS//EN
BEGIN:VEVENT
UID:4322
DTSTAMP:20260425T155958
DTSTART:20260427T170000
DTEND:20260427T180000
SUMMARY:Jornada de seguretat per a la gent gran amb els Mossos d’Esquadra
LOCATION:Can Turiols 
METHOD:PUBLISH
X-WR-CALNAME:ajuntament@olivella.cat
X-WR-TIMEZONE:Europe/Madrid
DESCRIPTION:
URI:https://www.olivella.cat/ajuntament/alcaldia-oberta/agenda-de-lalcaldessa/4322-jornada-de-seguretat-per-a-la-gent-gran-amb-els-mossos-desquadra.html
CLASS:PUBLIC
END:VEVENT
END:VCALENDAR
