BEGIN:VCALENDAR
VERSION:2.0
CALSCALE:GREGORIAN
PRODID:-//Diputació de Barcelona//DibaCMS//EN
BEGIN:VEVENT
UID:4321
DTSTAMP:20260424T220920
DTSTART:20260427T120000
DTEND:20260427T130000
SUMMARY:Reunió telemàtica valoració Jornada sobre les urbanitzacions amb dèficits urbanístics
LOCATION:Plaça Major, s/núm  08818 Olivella
METHOD:PUBLISH
X-WR-CALNAME:ajuntament@olivella.cat
X-WR-TIMEZONE:Europe/Madrid
DESCRIPTION:
URI:https://www.olivella.cat/ajuntament/alcaldia-oberta/agenda-de-lalcaldessa/reunio-telematica-valoracio-jornada-sobre-les-urbanitzacions-amb-deficits-urbanistics.html
CLASS:PUBLIC
END:VEVENT
END:VCALENDAR
