BEGIN:VCALENDAR
VERSION:2.0
CALSCALE:GREGORIAN
PRODID:-//Diputació de Barcelona//DibaCMS//EN
BEGIN:VEVENT
UID:4320
DTSTAMP:20260424T222455
DTSTART:20260427T083000
DTEND:20260427T100000
SUMMARY:Reunió de Coordinació Serveis d'Urbanisme 
LOCATION:Plaça Major, s/núm  08818 Olivella
METHOD:PUBLISH
X-WR-CALNAME:ajuntament@olivella.cat
X-WR-TIMEZONE:Europe/Madrid
DESCRIPTION:
URI:https://www.olivella.cat/ajuntament/alcaldia-oberta/agenda-de-lalcaldessa/reunio-de-coordinacio-serveis-durbanisme-.html
CLASS:PUBLIC
END:VEVENT
END:VCALENDAR
