BEGIN:VCALENDAR
VERSION:2.0
CALSCALE:GREGORIAN
PRODID:-//Diputació de Barcelona//DibaCMS//EN
BEGIN:VEVENT
UID:4316
DTSTAMP:20260422T014000
DTSTART:20260505T170000
DTEND:20260505T190000
SUMMARY:Taller “No és broma, trenquem les violències”
LOCATION:Plaça Catalunya, s/n, edifici annex a la Llar d'Infants 08818 Olivella
METHOD:PUBLISH
X-WR-CALNAME:ajuntament@olivella.cat
X-WR-TIMEZONE:Europe/Madrid
DESCRIPTION:
URI:https://www.olivella.cat/actualitat/agenda/4316-taller-no-es-broma-trenquem-les-violencies.html
CLASS:PUBLIC
END:VEVENT
END:VCALENDAR
