BEGIN:VCALENDAR
VERSION:2.0
CALSCALE:GREGORIAN
PRODID:-//Diputació de Barcelona//DibaCMS//EN
BEGIN:VEVENT
UID:4311
DTSTAMP:20260421T061918
DTSTART:20260426T100000
DTEND:20260426T120000
SUMMARY:Partit amistós de rugbi a Olivella
LOCATION:Camp Municipal d’Olivella 
METHOD:PUBLISH
X-WR-CALNAME:ajuntament@olivella.cat
X-WR-TIMEZONE:Europe/Madrid
DESCRIPTION:
URI:https://www.olivella.cat/actualitat/agenda/partit-amistos-de-rugbi-a-olivella.html
CLASS:PUBLIC
END:VEVENT
END:VCALENDAR
