BEGIN:VCALENDAR
VERSION:2.0
CALSCALE:GREGORIAN
PRODID:-//Diputació de Barcelona//DibaCMS//EN
BEGIN:VEVENT
UID:4308
DTSTAMP:20260421T061621
DTSTART:20260714T091500
DTEND:20260714T111500
SUMMARY:Visita de l'OAC mòbil de la Generealitat
LOCATION:Plaça Catalunya, 3 
METHOD:PUBLISH
X-WR-CALNAME:ajuntament@olivella.cat
X-WR-TIMEZONE:Europe/Madrid
DESCRIPTION:
URI:https://www.olivella.cat/actualitat/agenda/4308-visita-de-loac-mobil-de-la-generealitat.html
CLASS:PUBLIC
END:VEVENT
END:VCALENDAR
