BEGIN:VCALENDAR
VERSION:2.0
CALSCALE:GREGORIAN
PRODID:-//Diputació de Barcelona//DibaCMS//EN
BEGIN:VEVENT
UID:4289
DTSTAMP:20260425T174200
DTSTART:20260416T150000
DTEND:20260416T170000
SUMMARY:CLIKA
LOCATION:Auditori Vilafranca del Penedès 
METHOD:PUBLISH
X-WR-CALNAME:ajuntament@olivella.cat
X-WR-TIMEZONE:Europe/Madrid
DESCRIPTION:
URI:https://www.olivella.cat/ajuntament/alcaldia-oberta/agenda-de-lalcaldessa/clika.html
CLASS:PUBLIC
END:VEVENT
END:VCALENDAR
