BEGIN:VCALENDAR
VERSION:2.0
CALSCALE:GREGORIAN
PRODID:-//Diputació de Barcelona//DibaCMS//EN
BEGIN:VEVENT
UID:4288
DTSTAMP:20260425T155933
DTSTART:20260416T110000
DTEND:20260416T120000
SUMMARY:Reunió amb el President delegat de l'Àrea d’Infraestructures i Territori de la Diputació de Barcelona
LOCATION:Escola Industrial, Edifici del rellotge  
METHOD:PUBLISH
X-WR-CALNAME:ajuntament@olivella.cat
X-WR-TIMEZONE:Europe/Madrid
DESCRIPTION:
URI:https://www.olivella.cat/ajuntament/alcaldia-oberta/agenda-de-lalcaldessa/reunio-amb-el-president-delegat-de-larea-dinfraestructures-i-territori-de-la-diputacio-de-barcelona.html
CLASS:PUBLIC
END:VEVENT
END:VCALENDAR
