BEGIN:VCALENDAR
VERSION:2.0
CALSCALE:GREGORIAN
PRODID:-//Diputació de Barcelona//DibaCMS//EN
BEGIN:VEVENT
UID:4287
DTSTAMP:20260425T155008
DTSTART:20260415T110000
DTEND:20260415T133000
SUMMARY:Alcaldia Seguiment expedients i planificació agenda
LOCATION:Plaça Major, s/núm  08818 Olivella
METHOD:PUBLISH
X-WR-CALNAME:ajuntament@olivella.cat
X-WR-TIMEZONE:Europe/Madrid
DESCRIPTION:
URI:https://www.olivella.cat/ajuntament/alcaldia-oberta/agenda-de-lalcaldessa/alcaldia-seguiment-expedients-i-planificacio-agenda.html
CLASS:PUBLIC
END:VEVENT
END:VCALENDAR
