BEGIN:VCALENDAR
VERSION:2.0
CALSCALE:GREGORIAN
PRODID:-//Diputació de Barcelona//DibaCMS//EN
BEGIN:VEVENT
UID:4280
DTSTAMP:20260425T155706
DTSTART:20260414T140000
DTEND:20260414T150000
SUMMARY:Reunió lliurament projecte enllumenat Plana Novella
LOCATION:Plana Novella 
METHOD:PUBLISH
X-WR-CALNAME:ajuntament@olivella.cat
X-WR-TIMEZONE:Europe/Madrid
DESCRIPTION:
URI:https://www.olivella.cat/ajuntament/alcaldia-oberta/agenda-de-lalcaldessa/reunio-lliurament-projecte-enllumenat-plana-novella.html
CLASS:PUBLIC
END:VEVENT
END:VCALENDAR
