BEGIN:VCALENDAR
VERSION:2.0
CALSCALE:GREGORIAN
PRODID:-//Diputació de Barcelona//DibaCMS//EN
BEGIN:VEVENT
UID:4278
DTSTAMP:20260425T172824
DTSTART:20260413T103000
DTEND:20260413T113000
SUMMARY:Mesa contractació dinamització cultura informe valoració
LOCATION:Plaça Major, s/núm  08818 Olivella
METHOD:PUBLISH
X-WR-CALNAME:ajuntament@olivella.cat
X-WR-TIMEZONE:Europe/Madrid
DESCRIPTION:
URI:https://www.olivella.cat/ajuntament/alcaldia-oberta/agenda-de-lalcaldessa/mesa-contractacio-dinamitzacio-cultura-informe-valoracio.html
CLASS:PUBLIC
END:VEVENT
END:VCALENDAR
