BEGIN:VCALENDAR
VERSION:2.0
CALSCALE:GREGORIAN
PRODID:-//Diputació de Barcelona//DibaCMS//EN
BEGIN:VEVENT
UID:4268
DTSTAMP:20260425T185745
DTSTART:20260409T100000
DTEND:20260409T110000
SUMMARY:Reunió de coordinació amb el servei d'Urbanisme
LOCATION:Plaça Major, s/núm  08818 Olivella
METHOD:PUBLISH
X-WR-CALNAME:ajuntament@olivella.cat
X-WR-TIMEZONE:Europe/Madrid
DESCRIPTION:
URI:https://www.olivella.cat/ajuntament/alcaldia-oberta/agenda-de-lalcaldessa/reunio-de-coordinacio-amb-el-servei-durbanisme.html
CLASS:PUBLIC
END:VEVENT
END:VCALENDAR
