BEGIN:VCALENDAR
VERSION:2.0
CALSCALE:GREGORIAN
PRODID:-//Diputació de Barcelona//DibaCMS//EN
BEGIN:VEVENT
UID:4259
DTSTAMP:20260425T172313
DTSTART:20260414T100000
DTEND:20260414T130000
SUMMARY:Reunió coordinació Alcaldia
LOCATION:Esplanada contigua al pont de la Palanca 
METHOD:PUBLISH
X-WR-CALNAME:ajuntament@olivella.cat
X-WR-TIMEZONE:Europe/Madrid
DESCRIPTION:
URI:https://www.olivella.cat/ajuntament/alcaldia-oberta/agenda-de-lalcaldessa/reunio-coordinacio-alcaldia.html
CLASS:PUBLIC
END:VEVENT
END:VCALENDAR
