BEGIN:VCALENDAR
VERSION:2.0
CALSCALE:GREGORIAN
PRODID:-//Diputació de Barcelona//DibaCMS//EN
BEGIN:VEVENT
UID:4258
DTSTAMP:20260425T154456
DTSTART:20260413T193000
DTEND:20260413T203000
SUMMARY:Reunió informativa Mesa de Seguretat amb Portaveus
LOCATION:Plaça Major, s/núm  08818 Olivella
METHOD:PUBLISH
X-WR-CALNAME:ajuntament@olivella.cat
X-WR-TIMEZONE:Europe/Madrid
DESCRIPTION:
URI:https://www.olivella.cat/ajuntament/alcaldia-oberta/agenda-de-lalcaldessa/reunio-informativa-mesa-de-seguretat-amb-portaveus.html
CLASS:PUBLIC
END:VEVENT
END:VCALENDAR
