BEGIN:VCALENDAR
VERSION:2.0
CALSCALE:GREGORIAN
PRODID:-//Diputació de Barcelona//DibaCMS//EN
BEGIN:VEVENT
UID:4257
DTSTAMP:20260425T154946
DTSTART:20260413T173000
DTEND:20260413T203000
SUMMARY:Reunió anual de la Mesa de Seguretat
LOCATION:Plaça Major, s/núm  08818 Olivella
METHOD:PUBLISH
X-WR-CALNAME:ajuntament@olivella.cat
X-WR-TIMEZONE:Europe/Madrid
DESCRIPTION:
URI:https://www.olivella.cat/ajuntament/alcaldia-oberta/agenda-de-lalcaldessa/reunio-anual-de-la-mesa-de-seguretat.html
CLASS:PUBLIC
END:VEVENT
END:VCALENDAR
