BEGIN:VCALENDAR
VERSION:2.0
CALSCALE:GREGORIAN
PRODID:-//Diputació de Barcelona//DibaCMS//EN
BEGIN:VEVENT
UID:4256
DTSTAMP:20260425T154846
DTSTART:20260413T090000
DTEND:20260413T100000
SUMMARY:Comissió de seguiment de Serveis Socials amb el Consell Comarcal
LOCATION:Serveis socials 
METHOD:PUBLISH
X-WR-CALNAME:ajuntament@olivella.cat
X-WR-TIMEZONE:Europe/Madrid
DESCRIPTION:
URI:https://www.olivella.cat/ajuntament/alcaldia-oberta/agenda-de-lalcaldessa/comissio-de-seguiment-de-serveis-socials-amb-el-consell-comarcal.html
CLASS:PUBLIC
END:VEVENT
END:VCALENDAR
