BEGIN:VCALENDAR
VERSION:2.0
CALSCALE:GREGORIAN
PRODID:-//Diputació de Barcelona//DibaCMS//EN
BEGIN:VEVENT
UID:4254
DTSTAMP:20260425T155607
DTSTART:20260408T110000
DTEND:20260408T120000
SUMMARY:Reunió amb la Fundació Municipalista d’Impuls Territorial (FMIT) de l’ACM - Servei d’assessorament urbanístic
LOCATION:FMIT (carrer València, 231 - 08007 Barcelona) 
METHOD:PUBLISH
X-WR-CALNAME:ajuntament@olivella.cat
X-WR-TIMEZONE:Europe/Madrid
DESCRIPTION:
URI:https://www.olivella.cat/ajuntament/alcaldia-oberta/agenda-de-lalcaldessa/reunio-amb-la-fundacio-municipalista-dimpuls-territorial-fmit-de-lacm-servei-dassessorament-urbanistic.html
CLASS:PUBLIC
END:VEVENT
END:VCALENDAR
