BEGIN:VCALENDAR
VERSION:2.0
CALSCALE:GREGORIAN
PRODID:-//Diputació de Barcelona//DibaCMS//EN
BEGIN:VEVENT
UID:4253
DTSTAMP:20260425T154114
DTSTART:20260407T130000
DTEND:20260407T133000
SUMMARY:Reunió Delegada sindical
LOCATION:Plaça Major, s/núm  08818 Olivella
METHOD:PUBLISH
X-WR-CALNAME:ajuntament@olivella.cat
X-WR-TIMEZONE:Europe/Madrid
DESCRIPTION:
URI:https://www.olivella.cat/ajuntament/alcaldia-oberta/agenda-de-lalcaldessa/reunio-delegada-sindical.html
CLASS:PUBLIC
END:VEVENT
END:VCALENDAR
