BEGIN:VCALENDAR
VERSION:2.0
CALSCALE:GREGORIAN
PRODID:-//Diputació de Barcelona//DibaCMS//EN
BEGIN:VEVENT
UID:4244
DTSTAMP:20260425T160538
DTSTART:20260401T110000
DTEND:20260401T120000
SUMMARY:Dir. territori educació
LOCATION:El Vendrell 
METHOD:PUBLISH
X-WR-CALNAME:ajuntament@olivella.cat
X-WR-TIMEZONE:Europe/Madrid
DESCRIPTION:
URI:https://www.olivella.cat/ajuntament/alcaldia-oberta/agenda-de-lalcaldessa/dir-territori-educacio.html
CLASS:PUBLIC
END:VEVENT
END:VCALENDAR
