BEGIN:VCALENDAR
VERSION:2.0
CALSCALE:GREGORIAN
PRODID:-//Diputació de Barcelona//DibaCMS//EN
BEGIN:VEVENT
UID:4241
DTSTAMP:20260425T160411
DTSTART:20260401T130000
DTEND:20260401T133000
SUMMARY:Atenció ciutadana
LOCATION:C/Serra del Cadí 
METHOD:PUBLISH
X-WR-CALNAME:ajuntament@olivella.cat
X-WR-TIMEZONE:Europe/Madrid
DESCRIPTION:
URI:https://www.olivella.cat/ajuntament/alcaldia-oberta/agenda-de-lalcaldessa/4241-atencio-ciutadana.html
CLASS:PUBLIC
END:VEVENT
END:VCALENDAR
