BEGIN:VCALENDAR
VERSION:2.0
CALSCALE:GREGORIAN
PRODID:-//Diputació de Barcelona//DibaCMS//EN
BEGIN:VEVENT
UID:4238
DTSTAMP:20260425T174232
DTSTART:20260331T173000
DTEND:20260331T210000
SUMMARY:Reunió equip de govern 
LOCATION:Plaça Major, s/núm  08818 Olivella
METHOD:PUBLISH
X-WR-CALNAME:ajuntament@olivella.cat
X-WR-TIMEZONE:Europe/Madrid
DESCRIPTION:
URI:https://www.olivella.cat/ajuntament/alcaldia-oberta/agenda-de-lalcaldessa/4238-reunio-equip-de-govern-.html
CLASS:PUBLIC
END:VEVENT
END:VCALENDAR
