BEGIN:VCALENDAR
VERSION:2.0
CALSCALE:GREGORIAN
PRODID:-//Diputació de Barcelona//DibaCMS//EN
BEGIN:VEVENT
UID:4235
DTSTAMP:20260425T161158
DTSTART:20260331T103000
DTEND:20260331T113000
SUMMARY:Reunió amb la Mancomunitat 
LOCATION:Plaça Major, s/núm  08818 Olivella
METHOD:PUBLISH
X-WR-CALNAME:ajuntament@olivella.cat
X-WR-TIMEZONE:Europe/Madrid
DESCRIPTION:
URI:https://www.olivella.cat/ajuntament/alcaldia-oberta/agenda-de-lalcaldessa/reunio-amb-la-mancomunitat-.html
CLASS:PUBLIC
END:VEVENT
END:VCALENDAR
