BEGIN:VCALENDAR
VERSION:2.0
CALSCALE:GREGORIAN
PRODID:-//Diputació de Barcelona//DibaCMS//EN
BEGIN:VEVENT
UID:4234
DTSTAMP:20260425T160814
DTSTART:20260331T090000
DTEND:20260331T100000
SUMMARY:Reunió amb Correus
LOCATION:Plaça Major, s/núm  08818 Olivella
METHOD:PUBLISH
X-WR-CALNAME:ajuntament@olivella.cat
X-WR-TIMEZONE:Europe/Madrid
DESCRIPTION:
URI:https://www.olivella.cat/ajuntament/alcaldia-oberta/agenda-de-lalcaldessa/reunio-amb-correus.html
CLASS:PUBLIC
END:VEVENT
END:VCALENDAR
