BEGIN:VCALENDAR
VERSION:2.0
CALSCALE:GREGORIAN
PRODID:-//Diputació de Barcelona//DibaCMS//EN
BEGIN:VEVENT
UID:4233
DTSTAMP:20260425T160953
DTSTART:20260330T090000
DTEND:20260330T100000
SUMMARY:Atenció ciutadana
LOCATION:
METHOD:PUBLISH
X-WR-CALNAME:ajuntament@olivella.cat
X-WR-TIMEZONE:Europe/Madrid
DESCRIPTION:
URI:https://www.olivella.cat/ajuntament/alcaldia-oberta/agenda-de-lalcaldessa/4233-atencio-ciutadana.html
CLASS:PUBLIC
END:VEVENT
END:VCALENDAR
