BEGIN:VCALENDAR
VERSION:2.0
CALSCALE:GREGORIAN
PRODID:-//Diputació de Barcelona//DibaCMS//EN
BEGIN:VEVENT
UID:4217
DTSTAMP:20260425T174422
DTSTART:20260326T093000
DTEND:20260326T110000
SUMMARY:Acte amb Empreses de la Mancomunitat
LOCATION:
METHOD:PUBLISH
X-WR-CALNAME:ajuntament@olivella.cat
X-WR-TIMEZONE:Europe/Madrid
DESCRIPTION:
URI:https://www.olivella.cat/ajuntament/alcaldia-oberta/agenda-de-lalcaldessa/acte-amb-empreses-de-la-mancomunitat.html
CLASS:PUBLIC
END:VEVENT
END:VCALENDAR
