BEGIN:VCALENDAR
VERSION:2.0
CALSCALE:GREGORIAN
PRODID:-//Diputació de Barcelona//DibaCMS//EN
BEGIN:VEVENT
UID:4216
DTSTAMP:20260425T173909
DTSTART:20260325T163000
DTEND:20260325T183000
SUMMARY:Acte de presentació del nou model de finançament autonòmic, a càrrec de la consellera d’Economia i Finances
LOCATION:Fòrum Berger Balaguer, Vilafranca del Penedès 
METHOD:PUBLISH
X-WR-CALNAME:ajuntament@olivella.cat
X-WR-TIMEZONE:Europe/Madrid
DESCRIPTION:
URI:https://www.olivella.cat/ajuntament/alcaldia-oberta/agenda-de-lalcaldessa/acte-de-presentacio-del-nou-model-de-financament-autonomic-a-carrec-de-la-consellera-deconomia-i-finances.html
CLASS:PUBLIC
END:VEVENT
END:VCALENDAR
