BEGIN:VCALENDAR
VERSION:2.0
CALSCALE:GREGORIAN
PRODID:-//Diputació de Barcelona//DibaCMS//EN
BEGIN:VEVENT
UID:2629
DTSTAMP:20260424T213637
DTSTART:20211215T130000
DTEND:20211215T140000
SUMMARY:Reunió amb veí 
LOCATION:
METHOD:PUBLISH
X-WR-CALNAME:ajuntament@olivella.cat
X-WR-TIMEZONE:Europe/Madrid
DESCRIPTION:
URI:https://www.olivella.cat//continguts//2629-reunio-amb-vei-.html
CLASS:PUBLIC
END:VEVENT
END:VCALENDAR
