BEGIN:VCALENDAR
VERSION:2.0
CALSCALE:GREGORIAN
PRODID:-//Diputació de Barcelona//DibaCMS//EN
BEGIN:VEVENT
UID:2584
DTSTAMP:20260420T192759
DTSTART:20211124T183000
DTEND:20211124T193000
SUMMARY:Xerrada Violència de gènere en el marc de la UE 
LOCATION:
METHOD:PUBLISH
X-WR-CALNAME:ajuntament@olivella.cat
X-WR-TIMEZONE:Europe/Madrid
DESCRIPTION:
URI:https://www.olivella.cat/ajuntament/alcaldia-oberta/agenda-de-lalcaldessa/xerrada-violencia-de-genere-en-el-marc-de-la-ue-.html
CLASS:PUBLIC
END:VEVENT
END:VCALENDAR
