BEGIN:VCALENDAR
VERSION:2.0
CALSCALE:GREGORIAN
PRODID:-//Diputació de Barcelona//DibaCMS//EN
BEGIN:VEVENT
UID:2582
DTSTAMP:20260424T154517
DTSTART:20211124T120000
DTEND:20211124T130000
SUMMARY:Plenari del Pacte per l'Ocupació 
LOCATION:
METHOD:PUBLISH
X-WR-CALNAME:ajuntament@olivella.cat
X-WR-TIMEZONE:Europe/Madrid
DESCRIPTION:
URI:https://www.olivella.cat/ajuntament/alcaldia-oberta/agenda-de-lalcaldessa/plenari-del-pacte-per-locupacio-.html
CLASS:PUBLIC
END:VEVENT
END:VCALENDAR
