BEGIN:VCALENDAR
VERSION:2.0
CALSCALE:GREGORIAN
PRODID:-//Diputació de Barcelona//DibaCMS//EN
BEGIN:VEVENT
UID:2356
DTSTAMP:20260423T123932
DTSTART:20210727T100000
DTEND:20210727T103000
SUMMARY:Visita Obra Crivellera 
LOCATION:
METHOD:PUBLISH
X-WR-CALNAME:ajuntament@olivella.cat
X-WR-TIMEZONE:Europe/Madrid
DESCRIPTION:
URI:https://www.olivella.cat/ajuntament/alcaldia-oberta/agenda-de-lalcaldessa/visita-obra-crivellera-.html
CLASS:PUBLIC
END:VEVENT
END:VCALENDAR
